BEGIN:VCALENDAR
VERSION:2.0
PRODID:-//Maxi-Jazz Dance Studio - ECPv6.15.20//NONSGML v1.0//EN
CALSCALE:GREGORIAN
METHOD:PUBLISH
X-WR-CALNAME:Maxi-Jazz Dance Studio
X-ORIGINAL-URL:https://www.maxijazzdancestudio.net
X-WR-CALDESC:Events for Maxi-Jazz Dance Studio
REFRESH-INTERVAL;VALUE=DURATION:PT1H
X-Robots-Tag:noindex
X-PUBLISHED-TTL:PT1H
BEGIN:VTIMEZONE
TZID:Australia/Sydney
BEGIN:STANDARD
TZOFFSETFROM:+1100
TZOFFSETTO:+1000
TZNAME:AEST
DTSTART:20180331T160000
END:STANDARD
BEGIN:DAYLIGHT
TZOFFSETFROM:+1000
TZOFFSETTO:+1100
TZNAME:AEDT
DTSTART:20181006T160000
END:DAYLIGHT
BEGIN:STANDARD
TZOFFSETFROM:+1100
TZOFFSETTO:+1000
TZNAME:AEST
DTSTART:20190406T160000
END:STANDARD
BEGIN:DAYLIGHT
TZOFFSETFROM:+1000
TZOFFSETTO:+1100
TZNAME:AEDT
DTSTART:20191005T160000
END:DAYLIGHT
BEGIN:STANDARD
TZOFFSETFROM:+1100
TZOFFSETTO:+1000
TZNAME:AEST
DTSTART:20200404T160000
END:STANDARD
BEGIN:DAYLIGHT
TZOFFSETFROM:+1000
TZOFFSETTO:+1100
TZNAME:AEDT
DTSTART:20201003T160000
END:DAYLIGHT
END:VTIMEZONE
BEGIN:VEVENT
DTSTART;TZID=Australia/Sydney:20191204T170000
DTEND;TZID=Australia/Sydney:20191204T193000
DTSTAMP:20260426T100215
CREATED:20191021T003512Z
LAST-MODIFIED:20191030T144738Z
UID:1529-1575478800-1575487800@www.maxijazzdancestudio.net
SUMMARY:Presentation Day
DESCRIPTION:Our presentation night will be held on Wednesday 4th December at Wallsend Diggers Club. \nDoors will open at 5:00 pm ready for a 5:30 pm start with an approximate finish time of \n7:30 pm. This is a great day for everyone which all concert students will receive their own \nparticipation trophy presented to them on stage\, as well as special awards and trophies \nand a disco to finish of the day.\n\nThe 2019 Dance Presentation will be held on  \n  \nWHEN: Wednesday 4th December  \nWHERE: Wallsend Diggers Club  \nTIME: Doors will open at 5 pm \nPresentation from 5:30 pm  \nWe’d love for our families to stay and enjoy a little disco at the end and conclude the evening at 7:30 pm \n  \n 
URL:https://www.maxijazzdancestudio.net/event/presentation-day/
LOCATION:Wallsend Diggers\, 5 Tyrrell Street\, Wallsend\, NSW\, 2287\, Australia
CATEGORIES:Events Page
ORGANIZER;CN="Maxi-Jazz Dance Studio":MAILTO:hello@maxijazzdancestudio.net
END:VEVENT
END:VCALENDAR