BEGIN:VCALENDAR
VERSION:2.0
PRODID:-//Maxi-Jazz Dance Studio - ECPv6.15.20//NONSGML v1.0//EN
CALSCALE:GREGORIAN
METHOD:PUBLISH
X-WR-CALNAME:Maxi-Jazz Dance Studio
X-ORIGINAL-URL:https://www.maxijazzdancestudio.net
X-WR-CALDESC:Events for Maxi-Jazz Dance Studio
REFRESH-INTERVAL;VALUE=DURATION:PT1H
X-Robots-Tag:noindex
X-PUBLISHED-TTL:PT1H
BEGIN:VTIMEZONE
TZID:Australia/Sydney
BEGIN:STANDARD
TZOFFSETFROM:+1100
TZOFFSETTO:+1000
TZNAME:AEST
DTSTART:20190406T160000
END:STANDARD
BEGIN:DAYLIGHT
TZOFFSETFROM:+1000
TZOFFSETTO:+1100
TZNAME:AEDT
DTSTART:20191005T160000
END:DAYLIGHT
BEGIN:STANDARD
TZOFFSETFROM:+1100
TZOFFSETTO:+1000
TZNAME:AEST
DTSTART:20200404T160000
END:STANDARD
BEGIN:DAYLIGHT
TZOFFSETFROM:+1000
TZOFFSETTO:+1100
TZNAME:AEDT
DTSTART:20201003T160000
END:DAYLIGHT
BEGIN:STANDARD
TZOFFSETFROM:+1100
TZOFFSETTO:+1000
TZNAME:AEST
DTSTART:20210403T160000
END:STANDARD
BEGIN:DAYLIGHT
TZOFFSETFROM:+1000
TZOFFSETTO:+1100
TZNAME:AEDT
DTSTART:20211002T160000
END:DAYLIGHT
END:VTIMEZONE
BEGIN:VEVENT
DTSTART;VALUE=DATE:20200215
DTEND;VALUE=DATE:20200216
DTSTAMP:20260426T071612
CREATED:20200211T082239Z
LAST-MODIFIED:20200211T082239Z
UID:2087-1581724800-1581811199@www.maxijazzdancestudio.net
SUMMARY:Monthly Tuition Installment Charged to Account
DESCRIPTION:
URL:https://www.maxijazzdancestudio.net/event/monthly-tuition-installment-charged-to-account-2/
END:VEVENT
BEGIN:VEVENT
DTSTART;VALUE=DATE:20200215
DTEND;VALUE=DATE:20200216
DTSTAMP:20260426T071612
CREATED:20201111T123729Z
LAST-MODIFIED:20201111T123729Z
UID:2935-1581724800-1581811199@www.maxijazzdancestudio.net
SUMMARY:Monthly Tuition Installment Charged to Account
DESCRIPTION:
URL:https://www.maxijazzdancestudio.net/event/monthly-tuition-installment-charged-to-account-6/
END:VEVENT
END:VCALENDAR