BEGIN:VCALENDAR
VERSION:2.0
PRODID:-//Maxi-Jazz Dance Studio - ECPv6.15.20//NONSGML v1.0//EN
CALSCALE:GREGORIAN
METHOD:PUBLISH
X-WR-CALNAME:Maxi-Jazz Dance Studio
X-ORIGINAL-URL:https://www.maxijazzdancestudio.net
X-WR-CALDESC:Events for Maxi-Jazz Dance Studio
REFRESH-INTERVAL;VALUE=DURATION:PT1H
X-Robots-Tag:noindex
X-PUBLISHED-TTL:PT1H
BEGIN:VTIMEZONE
TZID:Australia/Sydney
BEGIN:STANDARD
TZOFFSETFROM:+1100
TZOFFSETTO:+1000
TZNAME:AEST
DTSTART:20200404T160000
END:STANDARD
BEGIN:DAYLIGHT
TZOFFSETFROM:+1000
TZOFFSETTO:+1100
TZNAME:AEDT
DTSTART:20201003T160000
END:DAYLIGHT
BEGIN:STANDARD
TZOFFSETFROM:+1100
TZOFFSETTO:+1000
TZNAME:AEST
DTSTART:20210403T160000
END:STANDARD
BEGIN:DAYLIGHT
TZOFFSETFROM:+1000
TZOFFSETTO:+1100
TZNAME:AEDT
DTSTART:20211002T160000
END:DAYLIGHT
BEGIN:STANDARD
TZOFFSETFROM:+1100
TZOFFSETTO:+1000
TZNAME:AEST
DTSTART:20220402T160000
END:STANDARD
BEGIN:DAYLIGHT
TZOFFSETFROM:+1000
TZOFFSETTO:+1100
TZNAME:AEDT
DTSTART:20221001T160000
END:DAYLIGHT
END:VTIMEZONE
BEGIN:VEVENT
DTSTART;VALUE=DATE:20210401
DTEND;VALUE=DATE:20210402
DTSTAMP:20260425T121121
CREATED:20201111T122635Z
LAST-MODIFIED:20201111T122635Z
UID:2900-1617235200-1617321599@www.maxijazzdancestudio.net
SUMMARY:Monthly Tuition Installment Auto-Pay
DESCRIPTION:
URL:https://www.maxijazzdancestudio.net/event/monthly-tuition-installment-auto-pay-9/
END:VEVENT
BEGIN:VEVENT
DTSTART;VALUE=DATE:20210415
DTEND;VALUE=DATE:20210416
DTSTAMP:20260425T121121
CREATED:20201111T123834Z
LAST-MODIFIED:20201111T123834Z
UID:2941-1618444800-1618531199@www.maxijazzdancestudio.net
SUMMARY:Monthly Tuition Installment Charged to Account
DESCRIPTION:
URL:https://www.maxijazzdancestudio.net/event/monthly-tuition-installment-charged-to-account-13/
END:VEVENT
BEGIN:VEVENT
DTSTART;VALUE=DATE:20210419
DTEND;VALUE=DATE:20210420
DTSTAMP:20260425T121121
CREATED:20200211T141013Z
LAST-MODIFIED:20210419T080833Z
UID:2177-1618790400-1618876799@www.maxijazzdancestudio.net
SUMMARY:Term 2 Begins!
DESCRIPTION:
URL:https://www.maxijazzdancestudio.net/event/term-2-begins/
LOCATION:Maxi-Jazz Dance Studio\, 42C Stenhouse Drive\, Cameron Park\, NSW\, 2285\, Australia
END:VEVENT
END:VCALENDAR