BEGIN:VCALENDAR
VERSION:2.0
PRODID:-//Maxi-Jazz Dance Studio - ECPv6.15.20//NONSGML v1.0//EN
CALSCALE:GREGORIAN
METHOD:PUBLISH
X-ORIGINAL-URL:https://www.maxijazzdancestudio.net
X-WR-CALDESC:Events for Maxi-Jazz Dance Studio
REFRESH-INTERVAL;VALUE=DURATION:PT1H
X-Robots-Tag:noindex
X-PUBLISHED-TTL:PT1H
BEGIN:VTIMEZONE
TZID:Australia/Sydney
BEGIN:STANDARD
TZOFFSETFROM:+1100
TZOFFSETTO:+1000
TZNAME:AEST
DTSTART:20200404T160000
END:STANDARD
BEGIN:DAYLIGHT
TZOFFSETFROM:+1000
TZOFFSETTO:+1100
TZNAME:AEDT
DTSTART:20201003T160000
END:DAYLIGHT
BEGIN:STANDARD
TZOFFSETFROM:+1100
TZOFFSETTO:+1000
TZNAME:AEST
DTSTART:20210403T160000
END:STANDARD
BEGIN:DAYLIGHT
TZOFFSETFROM:+1000
TZOFFSETTO:+1100
TZNAME:AEDT
DTSTART:20211002T160000
END:DAYLIGHT
BEGIN:STANDARD
TZOFFSETFROM:+1100
TZOFFSETTO:+1000
TZNAME:AEST
DTSTART:20220402T160000
END:STANDARD
BEGIN:DAYLIGHT
TZOFFSETFROM:+1000
TZOFFSETTO:+1100
TZNAME:AEDT
DTSTART:20221001T160000
END:DAYLIGHT
END:VTIMEZONE
BEGIN:VEVENT
DTSTART;VALUE=DATE:20210801
DTEND;VALUE=DATE:20210802
DTSTAMP:20260425T065551
CREATED:20201111T122852Z
LAST-MODIFIED:20201111T122852Z
UID:2912-1627776000-1627862399@www.maxijazzdancestudio.net
SUMMARY:Monthly Tuition Installment Auto-Pay
DESCRIPTION:
URL:https://www.maxijazzdancestudio.net/event/monthly-tuition-installment-auto-pay-17/
END:VEVENT
BEGIN:VEVENT
DTSTART;TZID=Australia/Sydney:20210829T090000
DTEND;TZID=Australia/Sydney:20210829T110000
DTSTAMP:20260425T065551
CREATED:20210728T233854Z
LAST-MODIFIED:20210728T234506Z
UID:3889-1630227600-1630234800@www.maxijazzdancestudio.net
SUMMARY:MAXIFit's 1st Birthday Celebration!
DESCRIPTION:SAVE THE DATE: Sunday 29th August\nWe cannot wait to celebrate our very first birthday for our MAXIfit program. We have had some amazing classes\, memories\, growing friendships and more in our program and we want to spend the morning celebrating with our members/friends/family/any new faces wanting to see what the MAXIfit community is all about.\nMore info to come soon.
URL:https://www.maxijazzdancestudio.net/event/maxifits-1st-birthday-celebration/
LOCATION:Maxi-Jazz Dance Studio\, 42C Stenhouse Drive\, Cameron Park\, NSW\, 2285\, Australia
CATEGORIES:Events Page
ATTACH;FMTTYPE=image/png:https://www.maxijazzdancestudio.net/wp-content/uploads/2021/07/Facebook-Event-Header-2021-16.png
ORGANIZER;CN="Maxi-Jazz Dance Studio":MAILTO:hello@maxijazzdancestudio.net
END:VEVENT
END:VCALENDAR