BEGIN:VCALENDAR
VERSION:2.0
PRODID:-//Maxi-Jazz Dance Studio - ECPv6.15.20//NONSGML v1.0//EN
CALSCALE:GREGORIAN
METHOD:PUBLISH
X-ORIGINAL-URL:https://www.maxijazzdancestudio.net
X-WR-CALDESC:Events for Maxi-Jazz Dance Studio
REFRESH-INTERVAL;VALUE=DURATION:PT1H
X-Robots-Tag:noindex
X-PUBLISHED-TTL:PT1H
BEGIN:VTIMEZONE
TZID:Australia/Sydney
BEGIN:STANDARD
TZOFFSETFROM:+1100
TZOFFSETTO:+1000
TZNAME:AEST
DTSTART:20200404T160000
END:STANDARD
BEGIN:DAYLIGHT
TZOFFSETFROM:+1000
TZOFFSETTO:+1100
TZNAME:AEDT
DTSTART:20201003T160000
END:DAYLIGHT
BEGIN:STANDARD
TZOFFSETFROM:+1100
TZOFFSETTO:+1000
TZNAME:AEST
DTSTART:20210403T160000
END:STANDARD
BEGIN:DAYLIGHT
TZOFFSETFROM:+1000
TZOFFSETTO:+1100
TZNAME:AEDT
DTSTART:20211002T160000
END:DAYLIGHT
BEGIN:STANDARD
TZOFFSETFROM:+1100
TZOFFSETTO:+1000
TZNAME:AEST
DTSTART:20220402T160000
END:STANDARD
BEGIN:DAYLIGHT
TZOFFSETFROM:+1000
TZOFFSETTO:+1100
TZNAME:AEDT
DTSTART:20221001T160000
END:DAYLIGHT
END:VTIMEZONE
BEGIN:VEVENT
DTSTART;VALUE=DATE:20211127
DTEND;VALUE=DATE:20211203
DTSTAMP:20260425T013046
CREATED:20211026T034951Z
LAST-MODIFIED:20211117T022356Z
UID:3965-1637971200-1638489599@www.maxijazzdancestudio.net
SUMMARY:FINALE FILMING WEEK
DESCRIPTION:During Term 4 Week 9 (or Week 8 for Saturday classes) students will be filming for their 2021 finale in classes! We ask for them to please wear their 2021 Concert Tshirt to their lessons ready to be filmed.
URL:https://www.maxijazzdancestudio.net/event/hair-and-makeup-workshop/
LOCATION:Maxi-Jazz Dance Studio\, 42C Stenhouse Drive\, Cameron Park\, NSW\, 2285\, Australia
CATEGORIES:Events Page
ORGANIZER;CN="Maxi-Jazz Dance Studio":MAILTO:hello@maxijazzdancestudio.net
END:VEVENT
BEGIN:VEVENT
DTSTART;VALUE=DATE:20211204
DTEND;VALUE=DATE:20211205
DTSTAMP:20260425T013046
CREATED:20191021T033718Z
LAST-MODIFIED:20211117T021002Z
UID:1585-1638576000-1638662399@www.maxijazzdancestudio.net
SUMMARY:MIGHTY FILM DAY
DESCRIPTION:MIGHT FILMING DAY!\nOur Mighty Filming Day for the concert is on December 4th! MJDS Mighty Students head to your parent portal\, concert information booklet or Family FB Group for all the information regarding times\, performance requirements and inclusions on the day.
URL:https://www.maxijazzdancestudio.net/event/mjds-dance-explosion-concert/
LOCATION:Maxi-Jazz Dance Studio\, 42C Stenhouse Drive\, Cameron Park\, NSW\, 2285\, Australia
CATEGORIES:Events Page
ORGANIZER;CN="Maxi-Jazz Dance Studio":MAILTO:hello@maxijazzdancestudio.net
END:VEVENT
END:VCALENDAR