BEGIN:VCALENDAR
VERSION:2.0
PRODID:-//Maxi-Jazz Dance Studio - ECPv6.15.20//NONSGML v1.0//EN
CALSCALE:GREGORIAN
METHOD:PUBLISH
X-WR-CALNAME:Maxi-Jazz Dance Studio
X-ORIGINAL-URL:https://www.maxijazzdancestudio.net
X-WR-CALDESC:Events for Maxi-Jazz Dance Studio
REFRESH-INTERVAL;VALUE=DURATION:PT1H
X-Robots-Tag:noindex
X-PUBLISHED-TTL:PT1H
BEGIN:VTIMEZONE
TZID:Australia/Sydney
BEGIN:STANDARD
TZOFFSETFROM:+1100
TZOFFSETTO:+1000
TZNAME:AEST
DTSTART:20210403T160000
END:STANDARD
BEGIN:DAYLIGHT
TZOFFSETFROM:+1000
TZOFFSETTO:+1100
TZNAME:AEDT
DTSTART:20211002T160000
END:DAYLIGHT
BEGIN:STANDARD
TZOFFSETFROM:+1100
TZOFFSETTO:+1000
TZNAME:AEST
DTSTART:20220402T160000
END:STANDARD
BEGIN:DAYLIGHT
TZOFFSETFROM:+1000
TZOFFSETTO:+1100
TZNAME:AEDT
DTSTART:20221001T160000
END:DAYLIGHT
BEGIN:STANDARD
TZOFFSETFROM:+1100
TZOFFSETTO:+1000
TZNAME:AEST
DTSTART:20230401T160000
END:STANDARD
BEGIN:DAYLIGHT
TZOFFSETFROM:+1000
TZOFFSETTO:+1100
TZNAME:AEDT
DTSTART:20230930T160000
END:DAYLIGHT
END:VTIMEZONE
BEGIN:VEVENT
DTSTART;TZID=Australia/Sydney:20220413T170000
DTEND;TZID=Australia/Sydney:20220413T190000
DTSTAMP:20260424T195010
CREATED:20210618T053610Z
LAST-MODIFIED:20220316T105218Z
UID:3807-1649869200-1649876400@www.maxijazzdancestudio.net
SUMMARY:Mover/Mighty Open Studio
DESCRIPTION:MOVERS AND MIGHTYS! \nWe have got an event for you this School Holidays! What better way to spend the night than enjoying free time using our unique acro\, dance cirque and classroom props and resources with your dance friends! \nWe are holding our very first OPEN STUDIO and invite all Mover and Mighty students (ages 7+) to utilise 2 hours of free play. \nWe will have trained Dance Cirque and AcroDance teachers there to supervise and help assist/spot for any students wishing to work on skills. Find the details below: \nWhen: Wednesday 13th April \nWhere: MJDS Cameron Park Studio \nTime: 5:00pm – 7:00pm \nWhat to bring: Please wear appropriate dance clothes for you to participate in skills and free play. \nPlus star on our brand new MJDS Tik Tok! Please note that our teachers are there to monitor safe dance practice and spot students where needed. \nTickets have a limited capacity so grab your tickets sooner rather than later! Tickets starting from $15 or use your Event Pass \nTickets available at: https://www.trybooking.com/BYFGU \n\n\n 
URL:https://www.maxijazzdancestudio.net/event/open-studio-night/
LOCATION:Maxi-Jazz Dance Studio\, 42C Stenhouse Drive\, Cameron Park\, NSW\, 2285\, Australia
CATEGORIES:Events Page
ORGANIZER;CN="Maxi-Jazz Dance Studio":MAILTO:hello@maxijazzdancestudio.net
END:VEVENT
END:VCALENDAR