BEGIN:VCALENDAR
VERSION:2.0
PRODID:-//Maxi-Jazz Dance Studio - ECPv6.15.20//NONSGML v1.0//EN
CALSCALE:GREGORIAN
METHOD:PUBLISH
X-WR-CALNAME:Maxi-Jazz Dance Studio
X-ORIGINAL-URL:https://www.maxijazzdancestudio.net
X-WR-CALDESC:Events for Maxi-Jazz Dance Studio
REFRESH-INTERVAL;VALUE=DURATION:PT1H
X-Robots-Tag:noindex
X-PUBLISHED-TTL:PT1H
BEGIN:VTIMEZONE
TZID:Australia/Sydney
BEGIN:STANDARD
TZOFFSETFROM:+1100
TZOFFSETTO:+1000
TZNAME:AEST
DTSTART:20210403T160000
END:STANDARD
BEGIN:DAYLIGHT
TZOFFSETFROM:+1000
TZOFFSETTO:+1100
TZNAME:AEDT
DTSTART:20211002T160000
END:DAYLIGHT
BEGIN:STANDARD
TZOFFSETFROM:+1100
TZOFFSETTO:+1000
TZNAME:AEST
DTSTART:20220402T160000
END:STANDARD
BEGIN:DAYLIGHT
TZOFFSETFROM:+1000
TZOFFSETTO:+1100
TZNAME:AEDT
DTSTART:20221001T160000
END:DAYLIGHT
BEGIN:STANDARD
TZOFFSETFROM:+1100
TZOFFSETTO:+1000
TZNAME:AEST
DTSTART:20230401T160000
END:STANDARD
BEGIN:DAYLIGHT
TZOFFSETFROM:+1000
TZOFFSETTO:+1100
TZNAME:AEDT
DTSTART:20230930T160000
END:DAYLIGHT
END:VTIMEZONE
BEGIN:VEVENT
DTSTART;VALUE=DATE:20220502
DTEND;VALUE=DATE:20220508
DTSTAMP:20260424T183825
CREATED:20210804T045414Z
LAST-MODIFIED:20220414T023030Z
UID:3895-1651449600-1651967999@www.maxijazzdancestudio.net
SUMMARY:MJDS Mums Dancing Experience
DESCRIPTION:Mums and Motherly Figures!! \nMaxi-Jazz Dance Studio is inviting all dance Mum’s\, Step Mums\, Aunties\, Grandmothers or Motherly figures to join their dancers for lots of fun in their classes! \n \nJoin in on your students dance lesson during Week 2 to see what we get up to! \nRSVP via the google form to let us know which class you are attending! \nhttps://docs.google.com/forms/d/e/1FAIpQLSddvYqwEJCtMvZaOFFAZ-s4n9729R3M5wRJSoOCOAdfVT5msg/viewform \n  \nQ: What is Mum’s Dance Week? \nA: Mum’s Dance Week is a wonderful opportunity for Mum’s and Motherly figures to spend quality time by sharing their Dancer’s love of dance in a special memorable week of dance.  Mum’s will learn\, laugh and join in on the fun of their dancers class. Mum’s Dance Week is  Monday\, May 2\, 2022 – Saturday\, May 7\, 2022\,in your student’s dance classes! \n  \nQ: Who can participate in Mum’s Dance Week? \nA: The term “Mum”  includes but is not limited to Mum\, Nan\, Aunt\, or Motherly Role Model. Only 1 participant per dancer. You may bring a different Female role model if you have another class in the same week. Staying within social distancing guidelines of course. Example: Mum comes to Monday’s class and Aunt participates in Tuesday’s Class. \n  \nQ: I have 2 left feet and no rhythm at all.  Can I still participate? \nA: You do not need to be experienced to dance with us.  Your dancer will enjoy helping you. You will most likely share a giggle or two in the process. \n  \nQ: What is the cost to participate? \nA: There is no cost to participate in our Mum’s Dance week. We just love the chance to honour the important women of our dancer’s lives. \n  \nQ: What am I required to wear? \nA: All Mum’s will need comfy clothes they can move around in and joggers. \n  \nQ: What about Dance Dad’s?! \nA: Don’t worry Dad’s… We have a special surprise coming for you. \n  \nQ: Is this for all classes at Maxi-Jazz Dance Studio? \nA: We cannot wait to share our MJDS class experience with you all\, however\, our Enhancement Program teams are busily preparing for upcoming performances and competitions\, so they will need their lessons to continue their focus and teamwork\, so we ask that these classes remain closed as normal. \n  \nQ: What are your office and contact details? \nA: Our office is communication is open Monday – Thursday from 4pm – 7pm. . You can reach us during office hours on our Studio Mobile phone or via email. Studio Mobile: 0402 025 792 Studio Email: hello@maxijazzdancestudio.net Studio Website: www.maxijazzdancestudio.net \n  \nQ: OK\, I’m ready to show off my dance moves.  Where do I sign up? \nA: Awesome! Just RSVP Through the google link – And we will see you during Mum’s dance week!  Don’t forget only 1 person per dancer per class. \nDisclaimer: You are engaging in this activity at your own risk. It is up to you to perform these activities in an open area free of obstacles. Go at your own pace. By using these online tutorials\, you agree to waive all liability and hold harmless Maxi-Jazz Dance Studio for any injury to yourself or to others\, or property damage.
URL:https://www.maxijazzdancestudio.net/event/mums-dance-experience/
LOCATION:Maxi-Jazz Dance Studio\, 42C Stenhouse Drive\, Cameron Park\, NSW\, 2285\, Australia
CATEGORIES:Events Page
ATTACH;FMTTYPE=image/png:https://www.maxijazzdancestudio.net/wp-content/uploads/2021/08/Facebook-Event-Headers-1.png
ORGANIZER;CN="Maxi-Jazz Dance Studio":MAILTO:hello@maxijazzdancestudio.net
END:VEVENT
BEGIN:VEVENT
DTSTART;VALUE=DATE:20220523
DTEND;VALUE=DATE:20220529
DTSTAMP:20260424T183825
CREATED:20200311T033442Z
LAST-MODIFIED:20220503T083818Z
UID:2357-1653264000-1653782399@www.maxijazzdancestudio.net
SUMMARY:Dance For Sick Kids with MJDS!
DESCRIPTION:MJDS is putting on their dancing shoes and their pyjamas in an out of uniform week from May 23rd – May 28th to make a difference for sick\nkids!!\nWe would love for all of our MJDS Students and families to get behind this honourable cause and donate to our studio’s donation page for dance for sick\nkids!\nThis month we are fundraising to support over 60\,000 families with a seriously ill or injured child that rely on Ronald McDonald House Charities (RMHC) in Australia each year. It’s important to us to help ensure they will continue to have a home-away-from-home when their child receives critical hospital care.\nWe are trying to raise $320 by dancing every day for one week in classes and teaching students empathy in lessons to reach our goal by sponsoring me today!\nClick through to make a tax-deductible donation now – https://www.danceforsickkids.com/…/mjds/2022-registration\nOn average it costs RMHC $160 to support a family for one night. So please\, give what you can.\n\nAnother way you can help is by sharing this message to your friends and family. You can use this link to share: https://www.danceforsickkids.com/fundraisers/mjds\nThank you in advance for helping MJDS make a difference!\nCatch us on the dancefloor
URL:https://www.maxijazzdancestudio.net/event/dance-for-sick-kids/
LOCATION:Maxi-Jazz Dance Studio\, 42C Stenhouse Drive\, Cameron Park\, NSW\, 2285\, Australia
CATEGORIES:Events Page
ORGANIZER;CN="Maxi-Jazz Dance Studio":MAILTO:hello@maxijazzdancestudio.net
END:VEVENT
END:VCALENDAR