BEGIN:VCALENDAR
VERSION:2.0
PRODID:-//Maxi-Jazz Dance Studio - ECPv6.15.20//NONSGML v1.0//EN
CALSCALE:GREGORIAN
METHOD:PUBLISH
X-ORIGINAL-URL:https://www.maxijazzdancestudio.net
X-WR-CALDESC:Events for Maxi-Jazz Dance Studio
REFRESH-INTERVAL;VALUE=DURATION:PT1H
X-Robots-Tag:noindex
X-PUBLISHED-TTL:PT1H
BEGIN:VTIMEZONE
TZID:Australia/Sydney
BEGIN:STANDARD
TZOFFSETFROM:+1100
TZOFFSETTO:+1000
TZNAME:AEST
DTSTART:20210403T160000
END:STANDARD
BEGIN:DAYLIGHT
TZOFFSETFROM:+1000
TZOFFSETTO:+1100
TZNAME:AEDT
DTSTART:20211002T160000
END:DAYLIGHT
BEGIN:STANDARD
TZOFFSETFROM:+1100
TZOFFSETTO:+1000
TZNAME:AEST
DTSTART:20220402T160000
END:STANDARD
BEGIN:DAYLIGHT
TZOFFSETFROM:+1000
TZOFFSETTO:+1100
TZNAME:AEDT
DTSTART:20221001T160000
END:DAYLIGHT
BEGIN:STANDARD
TZOFFSETFROM:+1100
TZOFFSETTO:+1000
TZNAME:AEST
DTSTART:20230401T160000
END:STANDARD
BEGIN:DAYLIGHT
TZOFFSETFROM:+1000
TZOFFSETTO:+1100
TZNAME:AEDT
DTSTART:20230930T160000
END:DAYLIGHT
END:VTIMEZONE
BEGIN:VEVENT
DTSTART;VALUE=DATE:20221128
DTEND;VALUE=DATE:20221204
DTSTAMP:20260424T095647
CREATED:20221013T040106Z
LAST-MODIFIED:20221013T040106Z
UID:4670-1669593600-1670111999@www.maxijazzdancestudio.net
SUMMARY:Celebration Week
DESCRIPTION:Celebration Week\nWe have dedicated 1 week in Term 4 after the completion of our dance concerts for our students to celebrate the big and small wins this year and at the end of year concert.  \nStudents will have their final class of the 2022 season. This class will be dedicated to celebrating the students’ achievements. We will be presenting Graduation Awards and student gifts within the lesson and have the opportunity to watch their concert routine back!  \n  \nDATE: Monday 28th November – Saturday 3rd December \n  \nKeep your eyes peeled for more information! \n 
URL:https://www.maxijazzdancestudio.net/event/celebration-week-2/
LOCATION:Maxi-Jazz Dance Studio\, 42C Stenhouse Drive\, Cameron Park\, NSW\, 2285\, Australia
CATEGORIES:Events Page
ATTACH;FMTTYPE=image/png:https://www.maxijazzdancestudio.net/wp-content/uploads/2022/10/Facebook-Event-Headers-10.png
ORGANIZER;CN="Maxi-Jazz Dance Studio":MAILTO:hello@maxijazzdancestudio.net
END:VEVENT
END:VCALENDAR