BEGIN:VCALENDAR
VERSION:2.0
PRODID:-//Maxi-Jazz Dance Studio - ECPv6.15.20//NONSGML v1.0//EN
CALSCALE:GREGORIAN
METHOD:PUBLISH
X-WR-CALNAME:Maxi-Jazz Dance Studio
X-ORIGINAL-URL:https://www.maxijazzdancestudio.net
X-WR-CALDESC:Events for Maxi-Jazz Dance Studio
REFRESH-INTERVAL;VALUE=DURATION:PT1H
X-Robots-Tag:noindex
X-PUBLISHED-TTL:PT1H
BEGIN:VTIMEZONE
TZID:Australia/Sydney
BEGIN:STANDARD
TZOFFSETFROM:+1100
TZOFFSETTO:+1000
TZNAME:AEST
DTSTART:20220402T160000
END:STANDARD
BEGIN:DAYLIGHT
TZOFFSETFROM:+1000
TZOFFSETTO:+1100
TZNAME:AEDT
DTSTART:20221001T160000
END:DAYLIGHT
BEGIN:STANDARD
TZOFFSETFROM:+1100
TZOFFSETTO:+1000
TZNAME:AEST
DTSTART:20230401T160000
END:STANDARD
BEGIN:DAYLIGHT
TZOFFSETFROM:+1000
TZOFFSETTO:+1100
TZNAME:AEDT
DTSTART:20230930T160000
END:DAYLIGHT
BEGIN:STANDARD
TZOFFSETFROM:+1100
TZOFFSETTO:+1000
TZNAME:AEST
DTSTART:20240406T160000
END:STANDARD
BEGIN:DAYLIGHT
TZOFFSETFROM:+1000
TZOFFSETTO:+1100
TZNAME:AEDT
DTSTART:20241005T160000
END:DAYLIGHT
END:VTIMEZONE
BEGIN:VEVENT
DTSTART;TZID=Australia/Sydney:20230705T093000
DTEND;TZID=Australia/Sydney:20230705T113000
DTSTAMP:20260424T003911
CREATED:20230606T030924Z
LAST-MODIFIED:20230606T030924Z
UID:5158-1688549400-1688556600@www.maxijazzdancestudio.net
SUMMARY:Monkey and Me!
DESCRIPTION:Join us for our first Adult AND Child event- Monkey and Me! We’ve been loving our ‘Move with Me’ classes at MJDS\, and wanted to continue the fun through the school holidays! \nWe’re inviting children aged 18 months – 6 years and an accompanying adult to come and ‘monkey around’ with us for a morning filled with fun 🐵 We’ll share a morning tea together and you and your little one will participate in a Little Monkeys circus class including juggling\, ribbons and our aerial silks and trapeze too! \n🐵 WHEN: Wednesday 5th July \n🐵 TIME: 9:30am-11:30am \n🐵 WHERE: Maxi-Jazz Dance Studio (42C Stenhouse Drive\, Cameron Park) \n🐵 WHAT TO BRING: bring a water bottle and wear something easy to move around in (long\, close-fitting pants are ideal). \nGrab a ticket for you and your little one\, and why not invite your friends too?! We can’t wait to share an awesome morning with everyone! \nTickets available here: https://www.trybooking.com/CIVYD \n 
URL:https://www.maxijazzdancestudio.net/event/monkey-and-me/
LOCATION:Maxi-Jazz Dance Studio\, 42C Stenhouse Drive\, Cameron Park\, NSW\, 2285\, Australia
CATEGORIES:Events Page
ATTACH;FMTTYPE=image/png:https://www.maxijazzdancestudio.net/wp-content/uploads/2021/06/Move-with-Me.png
ORGANIZER;CN="Maxi-Jazz Dance Studio":MAILTO:hello@maxijazzdancestudio.net
END:VEVENT
END:VCALENDAR