BEGIN:VCALENDAR
VERSION:2.0
PRODID:-//Maxi-Jazz Dance Studio - ECPv6.15.20//NONSGML v1.0//EN
CALSCALE:GREGORIAN
METHOD:PUBLISH
X-WR-CALNAME:Maxi-Jazz Dance Studio
X-ORIGINAL-URL:https://www.maxijazzdancestudio.net
X-WR-CALDESC:Events for Maxi-Jazz Dance Studio
REFRESH-INTERVAL;VALUE=DURATION:PT1H
X-Robots-Tag:noindex
X-PUBLISHED-TTL:PT1H
BEGIN:VTIMEZONE
TZID:Australia/Sydney
BEGIN:STANDARD
TZOFFSETFROM:+1100
TZOFFSETTO:+1000
TZNAME:AEST
DTSTART:20220402T160000
END:STANDARD
BEGIN:DAYLIGHT
TZOFFSETFROM:+1000
TZOFFSETTO:+1100
TZNAME:AEDT
DTSTART:20221001T160000
END:DAYLIGHT
BEGIN:STANDARD
TZOFFSETFROM:+1100
TZOFFSETTO:+1000
TZNAME:AEST
DTSTART:20230401T160000
END:STANDARD
BEGIN:DAYLIGHT
TZOFFSETFROM:+1000
TZOFFSETTO:+1100
TZNAME:AEDT
DTSTART:20230930T160000
END:DAYLIGHT
BEGIN:STANDARD
TZOFFSETFROM:+1100
TZOFFSETTO:+1000
TZNAME:AEST
DTSTART:20240406T160000
END:STANDARD
BEGIN:DAYLIGHT
TZOFFSETFROM:+1000
TZOFFSETTO:+1100
TZNAME:AEDT
DTSTART:20241005T160000
END:DAYLIGHT
END:VTIMEZONE
BEGIN:VEVENT
DTSTART;TZID=Australia/Sydney:20231003T093000
DTEND;TZID=Australia/Sydney:20231003T113000
DTSTAMP:20260423T202426
CREATED:20201118T024827Z
LAST-MODIFIED:20230830T020223Z
UID:2995-1696325400-1696332600@www.maxijazzdancestudio.net
SUMMARY:TEDDY BEAR PICNIC
DESCRIPTION:MJDS TEDDY BEARS PICNIC\nCalling all 2-6 year olds! Join us these school holidays for a Teddy Bears Picnic! \nHappening in the second week of the school holidays\, bring your favourite teddy along for a morning full of teddy bear games\, craft and morning tea!\n\nDATE: Tuesday 3rd October\nTIME: 9:30am – 11:30am\nAGES: 2-6 year olds\nWHERE: MJDS Cameron Park Studio\nWHAT TO BRING: Your favourite teddy and a water bottle! And we’ll provide morning tea! We also recommend wearing comfy clothes that are easy to move around in.\nCOST: Tickets available online for just $28\n\nWe can’t wait to spend this fabulous morning with everyone and meet your teddy friends!\nOur Teddy Bears Picnic is open to everyone\, so invite your friends and grab a ticket below!\nTickets available here: https://www.trybooking.com/CLBTG
URL:https://www.maxijazzdancestudio.net/event/teddy-bear-picnic/
LOCATION:Maxi-Jazz Dance Studio\, 42C Stenhouse Drive\, Cameron Park\, NSW\, 2285\, Australia
CATEGORIES:Events Page
ATTACH;FMTTYPE=image/png:https://www.maxijazzdancestudio.net/wp-content/uploads/2020/11/Teddy-Bears-Picnic.png
ORGANIZER;CN="Maxi-Jazz Dance Studio":MAILTO:hello@maxijazzdancestudio.net
END:VEVENT
END:VCALENDAR