BEGIN:VCALENDAR
VERSION:2.0
PRODID:-//Maxi-Jazz Dance Studio - ECPv6.15.20//NONSGML v1.0//EN
CALSCALE:GREGORIAN
METHOD:PUBLISH
X-WR-CALNAME:Maxi-Jazz Dance Studio
X-ORIGINAL-URL:https://www.maxijazzdancestudio.net
X-WR-CALDESC:Events for Maxi-Jazz Dance Studio
REFRESH-INTERVAL;VALUE=DURATION:PT1H
X-Robots-Tag:noindex
X-PUBLISHED-TTL:PT1H
BEGIN:VTIMEZONE
TZID:Australia/Sydney
BEGIN:STANDARD
TZOFFSETFROM:+1100
TZOFFSETTO:+1000
TZNAME:AEST
DTSTART:20230401T160000
END:STANDARD
BEGIN:DAYLIGHT
TZOFFSETFROM:+1000
TZOFFSETTO:+1100
TZNAME:AEDT
DTSTART:20230930T160000
END:DAYLIGHT
BEGIN:STANDARD
TZOFFSETFROM:+1100
TZOFFSETTO:+1000
TZNAME:AEST
DTSTART:20240406T160000
END:STANDARD
BEGIN:DAYLIGHT
TZOFFSETFROM:+1000
TZOFFSETTO:+1100
TZNAME:AEDT
DTSTART:20241005T160000
END:DAYLIGHT
BEGIN:STANDARD
TZOFFSETFROM:+1100
TZOFFSETTO:+1000
TZNAME:AEST
DTSTART:20250405T160000
END:STANDARD
BEGIN:DAYLIGHT
TZOFFSETFROM:+1000
TZOFFSETTO:+1100
TZNAME:AEDT
DTSTART:20251004T160000
END:DAYLIGHT
END:VTIMEZONE
BEGIN:VEVENT
DTSTART;TZID=Australia/Sydney:20240418T183000
DTEND;TZID=Australia/Sydney:20240418T210000
DTSTAMP:20260423T082219
CREATED:20240322T014439Z
LAST-MODIFIED:20240326T011140Z
UID:5537-1713465000-1713474000@www.maxijazzdancestudio.net
SUMMARY:Paint and Pizza Night
DESCRIPTION:PAINT & PIZZA NIGHT \n THURSDAY 18TH APRIL\n AGES 16+ YRS\n 6:30pm – 9:00pm\n\nOur Paint and Pizza night will be a night full of painting\, fun and laughs! Pizza dinner provided. The perfect event for our families to get involved with as well!\nBOOK HERE: https://www.trybooking.com/CQKIO
URL:https://www.maxijazzdancestudio.net/event/paint-and-pizza-night/
LOCATION:Maxi-Jazz Dance Studio\, 42C Stenhouse Drive\, Cameron Park\, NSW\, 2285\, Australia
CATEGORIES:Events Page
ATTACH;FMTTYPE=image/png:https://www.maxijazzdancestudio.net/wp-content/uploads/2024/03/PAINT-PIZZA.png
ORGANIZER;CN="Maxi-Jazz Dance Studio":MAILTO:hello@maxijazzdancestudio.net
END:VEVENT
END:VCALENDAR