BEGIN:VCALENDAR
VERSION:2.0
PRODID:-//Maxi-Jazz Dance Studio - ECPv6.15.20//NONSGML v1.0//EN
CALSCALE:GREGORIAN
METHOD:PUBLISH
X-ORIGINAL-URL:https://www.maxijazzdancestudio.net
X-WR-CALDESC:Events for Maxi-Jazz Dance Studio
REFRESH-INTERVAL;VALUE=DURATION:PT1H
X-Robots-Tag:noindex
X-PUBLISHED-TTL:PT1H
BEGIN:VTIMEZONE
TZID:Australia/Sydney
BEGIN:STANDARD
TZOFFSETFROM:+1100
TZOFFSETTO:+1000
TZNAME:AEST
DTSTART:20230401T160000
END:STANDARD
BEGIN:DAYLIGHT
TZOFFSETFROM:+1000
TZOFFSETTO:+1100
TZNAME:AEDT
DTSTART:20230930T160000
END:DAYLIGHT
BEGIN:STANDARD
TZOFFSETFROM:+1100
TZOFFSETTO:+1000
TZNAME:AEST
DTSTART:20240406T160000
END:STANDARD
BEGIN:DAYLIGHT
TZOFFSETFROM:+1000
TZOFFSETTO:+1100
TZNAME:AEDT
DTSTART:20241005T160000
END:DAYLIGHT
BEGIN:STANDARD
TZOFFSETFROM:+1100
TZOFFSETTO:+1000
TZNAME:AEST
DTSTART:20250405T160000
END:STANDARD
BEGIN:DAYLIGHT
TZOFFSETFROM:+1000
TZOFFSETTO:+1100
TZNAME:AEDT
DTSTART:20251004T160000
END:DAYLIGHT
END:VTIMEZONE
BEGIN:VEVENT
DTSTART;VALUE=DATE:20240622
DTEND;VALUE=DATE:20240623
DTSTAMP:20260423T053927
CREATED:20200211T142231Z
LAST-MODIFIED:20240515T062839Z
UID:2191-1719014400-1719100799@www.maxijazzdancestudio.net
SUMMARY:Mid Year Showcase
DESCRIPTION:INTRODUCING OUR 2024 MID-YEAR SHOWCASE INFORMATION!  \nWho’s excited for an opportunity to perform in front of our family and friends? \nOur students thrive on being able to show their family and friends all the amazing new skills and techniques they’ve been working hard on in class all year. We have taken the opportunity to bring the experience to our families a little earlier than our annual concerts by introducing a mid-year showcase. \nThis is an opportunity for students to enjoy a fun and exciting performance with their dance peers. It provides a scaffold for new and existing performers to participate with the performance world without any added anxiety that may come with costumes\, stage hair or make-up and extra rehearsals. The showcase is being held in week 8\, Term 2 with students will be given the option to perform their first routines learnt in class. This routine will also be included in the end of year concert in full costume so students will be able to refine and progress on it during the remainder of the terms. \nAttached to this post is a document with all of the information you need in preparation for the showcase. \nOur 2024 Mid Year Showcase is on Saturday 22nd June at Glendale Technology High School\, and is split into 3 Showcases: \n**MINI SHOWCASE (Tiny Twirlers\, Petite Feet\, Junior Jivers) \nStudents Arrive: 9:00am \nDoors Open: 9:30am \nShowcase Starts: 10:00am (and will run for approx. 1.5 hours) \n**MOVER/MIGHTY SHOWCASE (Tweens\, Youth\, Preteen\, Inter\, Senior\, Adult) \nStudents Arrive: 12:30pm \nDoors Open: 1:00pm \nShowcase Starts: 1:30pm (and will run for approx. 1.5 hours) \n**ENHANCEMENT PROGRAM SHOWOFFS (ALL EP Cheer and Dance Teams) \nStudents Arrive: 4:30pm \nDoors Open 5:00pm \nShowcase Starts: 5:30pm (and will run for approx 1.5 hours) \nThis Mid-Year Showcase is for ALL our wonderful concert classes! We would love to see all of our beautiful students demonstrate their talents and new routines at our MJDS Showcase. We understand if you have prior commitments that don’t allow you to attend. \nIf all families could please RSVP if you or your child/ren dancing can OR cannot attend\, via the link below by Sunday 16th June\, so we can rearrange positions and prepare all students for this special occasion- RSVP LINK  https://forms.gle/S5mX32FgBobtuFzY9  \nTickets will go on sale Thursday 23rd May @ 6pm  https://www.trybooking.com/CRQWV  \nWe are so excited for our 2024 Mid-Year Showcase! \nhttps://www.canva.com/design/DAEeO_Kmjag/9GJMJQNQupElmbiYGtH2IA/view?utm_content=DAEeO_Kmjag&utm_campaign=designshare&utm_medium=link&utm_source=publishsharelink
URL:https://www.maxijazzdancestudio.net/event/mid-year-showcase/
LOCATION:Glendale Technology High School\, 2A Oakland St\,\, Glendale\, NSW\, 2285\, Australia
CATEGORIES:Events Page
ATTACH;FMTTYPE=image/png:https://www.maxijazzdancestudio.net/wp-content/uploads/2020/02/Mid-Year-Showcase-1.png
ORGANIZER;CN="Maxi-Jazz Dance Studio":MAILTO:hello@maxijazzdancestudio.net
END:VEVENT
END:VCALENDAR