BEGIN:VCALENDAR
VERSION:2.0
PRODID:-//Maxi-Jazz Dance Studio - ECPv6.15.20//NONSGML v1.0//EN
CALSCALE:GREGORIAN
METHOD:PUBLISH
X-WR-CALNAME:Maxi-Jazz Dance Studio
X-ORIGINAL-URL:https://www.maxijazzdancestudio.net
X-WR-CALDESC:Events for Maxi-Jazz Dance Studio
REFRESH-INTERVAL;VALUE=DURATION:PT1H
X-Robots-Tag:noindex
X-PUBLISHED-TTL:PT1H
BEGIN:VTIMEZONE
TZID:Australia/Sydney
BEGIN:STANDARD
TZOFFSETFROM:+1100
TZOFFSETTO:+1000
TZNAME:AEST
DTSTART:20230401T160000
END:STANDARD
BEGIN:DAYLIGHT
TZOFFSETFROM:+1000
TZOFFSETTO:+1100
TZNAME:AEDT
DTSTART:20230930T160000
END:DAYLIGHT
BEGIN:STANDARD
TZOFFSETFROM:+1100
TZOFFSETTO:+1000
TZNAME:AEST
DTSTART:20240406T160000
END:STANDARD
BEGIN:DAYLIGHT
TZOFFSETFROM:+1000
TZOFFSETTO:+1100
TZNAME:AEDT
DTSTART:20241005T160000
END:DAYLIGHT
BEGIN:STANDARD
TZOFFSETFROM:+1100
TZOFFSETTO:+1000
TZNAME:AEST
DTSTART:20250405T160000
END:STANDARD
BEGIN:DAYLIGHT
TZOFFSETFROM:+1000
TZOFFSETTO:+1100
TZNAME:AEDT
DTSTART:20251004T160000
END:DAYLIGHT
END:VTIMEZONE
BEGIN:VEVENT
DTSTART;VALUE=DATE:20240709
DTEND;VALUE=DATE:20240711
DTSTAMP:20260423T040045
CREATED:20210607T084048Z
LAST-MODIFIED:20240605T024525Z
UID:3781-1720483200-1720655999@www.maxijazzdancestudio.net
SUMMARY:Dance Camp!
DESCRIPTION:Looking for something to do these school holidays? Come along to our Dance Camp!\nCome and try a range of dance styles including Jazz\, Hip Hop\, Lyrical/Contemporary\, Pom\, Acro\, Dance Cirque and more! Learn some cool new steps and skills and even create your own choreography and dance routine. Don’t miss these 2 days full of fun!\n\n⭐️ WHEN: Tuesday 9th and Wednesday 10th July\n⭐️ TIME: 9:00am-5:00pm (for 7-15yr olds) or 9:00-1:00pm (for 3-6yr olds)\n⭐️ WHERE: Maxi-Jazz Dance Studio (42C Stenhouse Drive\, Cameron Park)\n⭐️ WHAT TO BRING: A water bottle\, and wear clothes that are suitable for moving around + dancing in. BYO lunch or purchase one of our lunch packs!\n⭐️ TICKETS: Tickets are available online- https://www.trybooking.com/CSMEP\n1 Half Day (3-6yrs)- $49\n2 Half Days (3-6yrs) – $79\n1 Full Day (7-15yrs)- $79\n2 Full Days (7-15yrs)- $139\n\nOur Dance Camp is open to everyone\, so grab a ticket for you and a friend before they sell out! We can’t wait to see you there!
URL:https://www.maxijazzdancestudio.net/event/dance-camp/
LOCATION:Maxi-Jazz Dance Studio\, 42C Stenhouse Drive\, Cameron Park\, NSW\, 2285\, Australia
CATEGORIES:Events Page
ATTACH;FMTTYPE=image/png:https://www.maxijazzdancestudio.net/wp-content/uploads/2021/06/JULY-SH-Dance-Camp.png
ORGANIZER;CN="Maxi-Jazz Dance Studio":MAILTO:hello@maxijazzdancestudio.net
END:VEVENT
BEGIN:VEVENT
DTSTART;TZID=Australia/Sydney:20240712T173000
DTEND;TZID=Australia/Sydney:20240712T190000
DTSTAMP:20260423T040045
CREATED:20220804T012024Z
LAST-MODIFIED:20240605T031622Z
UID:3862-1720805400-1720810800@www.maxijazzdancestudio.net
SUMMARY:Winter Wonderland Disco
DESCRIPTION:IT’S DISCO TIME! Join us for our Winter Wonderland Disco and come dressed in your favourite winter outfits!\nOur discos are always a hit amongst our students + their friends\, you won’t want to miss this night of disco fun!\n\n❄️ Date: Friday 12th July\n❄️ Time: 5:30-7:00pm\n❄️ Ages: 3-15 years! We are running 2 separate discos at the same time to suit each age group!\n❄️ Where: Maxi Jazz Dance Studio\, 42C Stenhouse Drive\, Cameron Park\n❄️ Cost: Tickets are $16 + Pre-purchase a dinner pack!\nThere will also be a small canteen available on the night so bring your pocket money! \nOur discos are known to sell out\, so grab your tickets ASAP to avoid missing out on an awesome night! Tickets can be purchased here- https://www.trybooking.com/CSMEP\nWe can’t wait to see you there!
URL:https://www.maxijazzdancestudio.net/event/winter-wonderland-disco/
LOCATION:Maxi-Jazz Dance Studio\, 42C Stenhouse Drive\, Cameron Park\, NSW\, 2285\, Australia
CATEGORIES:Events Page
ATTACH;FMTTYPE=image/png:https://www.maxijazzdancestudio.net/wp-content/uploads/2021/06/JULY-SH-Winter-Disco.png
ORGANIZER;CN="Maxi-Jazz Dance Studio":MAILTO:hello@maxijazzdancestudio.net
END:VEVENT
BEGIN:VEVENT
DTSTART;TZID=Australia/Sydney:20240720T110000
DTEND;TZID=Australia/Sydney:20240720T123000
DTSTAMP:20260423T040045
CREATED:20230214T032410Z
LAST-MODIFIED:20240703T044148Z
UID:4902-1721473200-1721478600@www.maxijazzdancestudio.net
SUMMARY:Winter Fun Fest - Community Performance
DESCRIPTION:Still re-living the fun from Mid-Year Showcase on the weekend?!\nWe’re so excited to announce our next performance opportunity coming up these School Holidays!\n\nNEWCASTLE WINTER FUN FEST \nThese Community Performances are the perfect opportunity for our students to gain confidence and showcase what we love whilst supporting our local community \nCheck out the details below!\nThe routines on showcase will be from the 2024 dance season and have been chosen based on class sizes\, desired performance effect and suitable music for the event. See graphic below for full list of routines.\n☆ PERFORMANCE DATE: Saturday 20th July 2024\n☆ WHERE: Nobbys Beach Reserve\n☆ ARRIVAL TIME: approx. 11:00am (TBC at rehearsal)\n☆ PERFORMANCE TIME: 11:30am – approx. 12:30pm\n☆ TICKETS: All students performing will receive free entry. Any family members wishing to attend and watch will need to purchase a $5 entry ticket available at the gate.\n☆ COSTUME REQUIREMENTS: Students will have specific hair and makeup requirements depending on their age group. All students will wear MJDS Uniform for this performance. See here for all details – https://docs.google.com/document/d/1AwjBD12HW6JsU5JGpRqU3tyyPheHK-u1ZuAoUB7RkGk/edit?usp=sharing\n\n☆ REHEARSAL DATE: Thursday 18th July 2024\n☆ TIME: 4:00pm-5:30pm (Minis) / 4:00pm-7:00pm (Mover/Mightys)\n☆ COST: $18 Rehearsal + Performance Package\n☆ WHERE: MJDS Cameron Park Studio\n☆ PLEASE NOTE: All students MUST attend the rehearsal if you are wishing to perform. This is due to routines and positions being altered at our rehearsal. Students will also be required to collect important notes\, information and costume pieces at the rehearsal.\n\nREGISTER HERE TO JOIN US! – https://forms.gle/o75SLSSJdM6y9V6k8 
URL:https://www.maxijazzdancestudio.net/event/relay-for-life/
LOCATION:Maxi-Jazz Dance Studio\, 42C Stenhouse Drive\, Cameron Park\, NSW\, 2285\, Australia
CATEGORIES:Events Page
ATTACH;FMTTYPE=image/jpeg:https://www.maxijazzdancestudio.net/wp-content/uploads/2023/02/448258336_982005790597653_8182576765763908486_n.jpg
ORGANIZER;CN="Maxi-Jazz Dance Studio":MAILTO:hello@maxijazzdancestudio.net
END:VEVENT
BEGIN:VEVENT
DTSTART;VALUE=DATE:20240722
DTEND;VALUE=DATE:20240728
DTSTAMP:20260423T040045
CREATED:20221013T040901Z
LAST-MODIFIED:20240718T013630Z
UID:4673-1721606400-1722124799@www.maxijazzdancestudio.net
SUMMARY:Term 3 Open Week!
DESCRIPTION:  \n  \n  \n  \n  \n  \n  \n  \n  \nWanting to learn dance with the MJDS experience? \nStart your dance journey now & take advantage of our Taster lessons during the week of Monday 22nd – Saturday 27th July. Open Week is designed to help students find the perfect class for them! We’re offering lessons in most of our programs so that students can check out the different style combinations\, levels and age groups\, as well as experiencing different teachers from our MJDS Team. \nWe highly recommend that students attend these taster classes to allow students a taste of what is in store for the 2024 dance season. If you have any questions about what classes to try\, please reach out to us and as we would love to help! \nWe’re so excited for the 2024 Dance Season and hope you can be apart of it! Invite your friends to come along and trial out our classes and age groups for 2024! \n\n\nOur Open Week Timetable is aligned with our 2024 Dance Season timetable for each age group\, with class numbers limited in ALL classes. There may be some classes that are already at capacity and therefore will not be listed on the open week booking form however as waitlist will be available .\nIf you are interested in joining a waitlist for a spot in a class that is full\, reach out to our MJDS Team and we’d love to help.\n\n\n\n\n\n\n\nBook your classes via our online form below. Please note it is first in best dressed to grab trial spots. We have many classes with minimal spots left!\n\nCOST: FREE!! Come and try as many classes as you’d like!\nWHEN: Monday 22nd – Saturday 27th July\nWHERE: Maxi-Jazz Dance Studio 42 Stenhouse Drive\, Cameron Park\nBOOKING LINK: https://forms.gle/6m3cCuKw48Eia8Wk9\n\n\nIf you have any questions about what classes to try\, please reach out to us and we would love to help!
URL:https://www.maxijazzdancestudio.net/event/open-week-term-3/
LOCATION:Maxi-Jazz Dance Studio\, 42C Stenhouse Drive\, Cameron Park\, NSW\, 2285\, Australia
CATEGORIES:Events Page
ATTACH;FMTTYPE=image/png:https://www.maxijazzdancestudio.net/wp-content/uploads/2022/10/OPEN-WEEK-7.png
ORGANIZER;CN="Maxi-Jazz Dance Studio":MAILTO:hello@maxijazzdancestudio.net
END:VEVENT
END:VCALENDAR